Workbook

Sheet INTRO
B6: Tractor Recommendation Worksheet The Tractor Recommendation Worksheet is an analytical tool developed to assist agricultural producers in evaluating the power requirements associated with a wide range of towed implements used in farming operations. Because the horsepower needed to operate an implement varies according to implement size and functional purpose, it is essential for producers to understand the minimum tractor specifications required to ensure proper field performance. This tool enables users to assess whether their current tractor inventory is adequate for newly adopted or existing implements and to consider potential adjustments in equipment holdings when operational changes occur. In addition to identifying appropriate power units, the worksheet provides an estimate of the total operational cost of each implement–tractor combination, expressed on a per‑acre basis. These cost estimates support financial planning and help producers evaluate the economic implications and potential profitability of modifying their production systems or investing in new equipment. All implement recommendations and cost data incorporated into this tool are derived from the published Mississippi State University 2026 Crop Planning Budgets. The information is offered exclusively for educational purposes. Users are advised that all outputs are provided “as‑is,” without warranty of accuracy, completeness, or fitness for a particular purpose. The USDA Agricultural Research Service does not guarantee the functionality of the tool and assumes no responsibility for decisions made based on its results. Users bear all risks associated with the use or reliance upon any output generated by this worksheet.
B43: Trent A. Morton Agricultural Economist ARS | National Soil Dynamics Laboratory Agricultural Research Service 411 S Donahue Drive, Auburn, AL 36832 p: (334) 844-4741 ext. 2743 | c: (334) 332-2530 email: trent.morton@usda.gov | H43: UPDATED: 12/16/2025

Sheet RECOMMENDATIONS
A1: TRACTOR RECOMMENDATION FOR A TOWED IMPLEMENT
C2: & TOTAL COSTS FOR IMPLEMENTS USED
C5: IMPLEMENT (Select one from list) | F5: RECOMMENDED POWER UNIT
C6: Bed_Disk_Hipper_04R38" | F6: =INDEX(TOWED_IMPLEMENTS!$A$3:$P$389,MATCH(RECOMMENDATIONS!$C$6,TOWED_IMPLEMENTS!$A$3:$A$389,0),3) -> TRACTOR_MFWD_150HP_CB
C8: WIDTH (FEET) | F8: HORSEPOWER
C9: =INDEX(TOWED_IMPLEMENTS!$A$3:$P$389,MATCH(RECOMMENDATIONS!$C$6,TOWED_IMPLEMENTS!$A$3:$A$389,0),2) -> 12.666667 | F9: =INDEX(COMBINE_TRACTOR_UTV!$A$3:$L$38,MATCH(RECOMMENDATIONS!$F$6,COMBINE_TRACTOR_UTV!$A$3:$A$38,0),12) -> 150
C11: MSRP ($US) | F11: MSRP ($US)
C12: =INDEX(TOWED_IMPLEMENTS!$A$3:$P$389,MATCH(RECOMMENDATIONS!$C$6,TOWED_IMPLEMENTS!$A$3:$A$389,0),4) -> 15700 | F12: =INDEX(COMBINE_TRACTOR_UTV!$A$3:$L$38,MATCH(RECOMMENDATIONS!$F$6,COMBINE_TRACTOR_UTV!$A$3:$A$38,0),2) -> 193900
C14: USEFUL LIFE (YEARS) | F14: USEFUL LIFE (YEARS)
C15: =INDEX(TOWED_IMPLEMENTS!$A$3:$P$389,MATCH(RECOMMENDATIONS!$C$6,TOWED_IMPLEMENTS!$A$3:$A$389,0),6) -> 10 | F15: =INDEX(COMBINE_TRACTOR_UTV!$A$3:$L$38,MATCH(RECOMMENDATIONS!$F$6,COMBINE_TRACTOR_UTV!$A$3:$A$38,0),4) -> 8
C17: FIELD CAPACITY (ACRES/HOUR) | F17: FUEL USE (GALLONS/ACRE)
C18: =INDEX(TOWED_IMPLEMENTS!$A$3:$P$389,MATCH(RECOMMENDATIONS!$C$6,TOWED_IMPLEMENTS!$A$3:$A$389,0),16) -> 6.8027211 | F18: =INDEX(COMBINE_TRACTOR_UTV!$A$3:$L$38,MATCH(RECOMMENDATIONS!$F$6,COMBINE_TRACTOR_UTV!$A$3:$A$38,0),5) -> 7.72
C22: TOTAL COST ($US/ACRE)
C23: =INDEX(TOWED_IMPLEMENTS!$A$3:$P$389,MATCH(RECOMMENDATIONS!$C$6,TOWED_IMPLEMENTS!$A$3:$A$389,0),15) -> 16.28
C26: **All recommendations and prices are based on data from the Mississippi State University 2026 Crop Planning Budgets

Sheet TOWED_IMPLEMENTS
A1: 1 | B1: 2 | C1: 3 | D1: 4 | E1: 5 | F1: 6 | G1: 7 | H1: 8 | I1: 9 | J1: 10 | K1: 11 | L1: 12 | M1: 13 | N1: 14 | O1: 15 | P1: 16
A2: EQUIPMENT/SIZE | B2: WIDTH (FEET) | C2: RECOMMENDED POWER UNIT | D2: PURCHASE PRICE ($) | E2: ANNUAL USE (HOURS) | F2: USEFUL LIFE (YEARS) | G2: PERF_RATE (HR/ACRE) | H2: LABOR ($/ACRE) | I2: FUEL ($/ACRE) | J2: R&M_IMP ($/ACRE) | K2: R&M_PU ($/ACRE) | L2: TOTAL_DIRECT ($/ACRE) | M2: FIXED_IMP ($/ACRE) | N2: FIXED_PU ($/ACRE) | O2: TOTAL_COST ($/ACRE) | P2: FIELD CAPACITY (ACRES/HR)
A3: None | B3: 0 | C3: None | D3: 0 | E3: 0 | F3: 0 | G3: 0 | H3: 0 | I3: 0 | J3: 0 | K3: 0 | L3: 0 | M3: 0 | N3: 0 | O3: 0 | P3: 0
A4: Bed_Disk_Hipper_04R38" | B4: =(4*38)/12 -> 12.666667 | C4: TRACTOR_MFWD_150HP_CB | D4: 15700 | E4: 160 | F4: 10 | G4: 0.147 | H4: 2.84 | I4: 3.35 | J4: 0.57 | K4: 0.89 | L4: 7.67 | M4: 1.91 | N4: 6.69 | O4: 16.28 | P4: =1/G4 -> 6.8027211
A5: Bed_Disk_Hipper_06R38" | B5: =(6*38)/12 -> 19 | C5: TRACTOR_MFWD_170HP_CB | D5: 29900 | E5: 160 | F5: 10 | G5: 0.098 | H5: 1.9 | I5: 2.53 | J5: 0.73 | K5: 0.67 | L5: 5.85 | M5: 2.43 | N5: 5.21 | O5: 13.5 | P5: =1/G5 -> 10.204082
A6: Bed_Disk_Hipper_08R30" | B6: =(8*30)/12 -> 20 | C6: TRACTOR_MFWD_190HP_CB | D6: 33100 | E6: 160 | F6: 10 | G6: 0.093 | H6: 1.8 | I6: 2.69 | J6: 0.77 | K6: 0.82 | L6: 6.1 | M6: 2.56 | N6: 6.36 | O6: 15.03 | P6: =1/G6 -> 10.752688
A7: Bed_Disk_Hipper_08R38"_(2x1) | B7: =(8*38)/12 -> 25.333333 | C7: TRACTOR_MFWD_190HP_CB | D7: 114000 | E7: 160 | F7: 10 | G7: 0.049 | H7: 0.95 | I7: 1.41 | J7: 1.4 | K7: 0.43 | L7: 4.2 | M7: 4.64 | N7: 3.35 | O7: 12.2 | P7: =1/G7 -> 20.408163
A8: Bed_Disk_Hipper_12R30" | B8: =(12*30)/12 -> 30 | C8: TRACTOR_MFWD_225HP_CB | D8: 85400 | E8: 160 | F8: 10 | G8: 0.062 | H8: 1.2 | I8: 2.12 | J8: 1.33 | K8: 0.59 | L8: 5.26 | M8: 4.4 | N8: 4.63 | O8: 14.31 | P8: =1/G8 -> 16.129032
A9: Bed_Disk_Hipper_12R38" | B9: =(12*38)/12 -> 38 | C9: TRACTOR_MFWD_225HP_CB | D9: 114000 | E9: 160 | F9: 10 | G9: 0.049 | H9: 0.95 | I9: 1.67 | J9: 1.4 | K9: 0.47 | L9: 4.51 | M9: 4.64 | N9: 3.66 | O9: 12.81 | P9: =1/G9 -> 20.408163
A10: Bed_Disk_Hipper_16R40" | B10: =(16*40)/12 -> 53.333333 | C10: TRACTOR_MFWD_300HP_CB | D10: 135000 | E10: 160 | F10: 10 | G10: 0.035 | H10: 0.68 | I10: 1.6 | J10: 1.19 | K10: 0.43 | L10: 3.91 | M10: 3.94 | N10: 3.37 | O10: 11.24 | P10: =1/G10 -> 28.571429
A11: Bed_Disk_Hipper_Folding_08R38" | B11: =(8*38)/12 -> 25.333333 | C11: TRACTOR_MFWD_190HP_CB | D11: 83500 | E11: 160 | F11: 10 | G11: 0.074 | H11: 1.42 | I11: 2.13 | J11: 1.54 | K11: 0.65 | L11: 5.75 | M11: 5.11 | N11: 5.03 | O11: 15.9 | P11: =1/G11 -> 13.513514
A12: Bed_Disk_Hipper_Rigid_08R38" | B12: =(8*38)/12 -> 25.333333 | C12: TRACTOR_MFWD_190HP_CB | D12: 46800 | E12: 160 | F12: 10 | G12: 0.074 | H12: 1.42 | I12: 2.13 | J12: 0.86 | K12: 0.65 | L12: 5.07 | M12: 2.86 | N12: 5.03 | O12: 12.97 | P12: =1/G12 -> 13.513514
A13: Bed_Disk_Roller_08R30" | B13: =(8*30)/12 -> 20 | C13: TRACTOR_MFWD_190HP_CB | D13: 59900 | E13: 160 | F13: 10 | G13: 0.093 | H13: 1.8 | I13: 2.69 | J13: 1.4 | K13: 0.82 | L13: 6.73 | M13: 4.63 | N13: 6.36 | O13: 17.73 | P13: =1/G13 -> 10.752688
A14: Bed_Disk_Roller_08R38" | B14: =(8*38)/12 -> 25.333333 | C14: TRACTOR_MFWD_190HP_CB | D14: 68500 | E14: 160 | F14: 10 | G14: 0.074 | H14: 1.42 | I14: 2.13 | J14: 1.26 | K14: 0.65 | L14: 5.47 | M14: 4.19 | N14: 5.03 | O14: 14.7 | P14: =1/G14 -> 13.513514
A15: Bed_Disk_Roller_12R30-40" | B15: =(12*30)/12 -> 30 | C15: TRACTOR_MFWD_225HP_CB | D15: 113000 | E15: 160 | F15: 10 | G15: 0.062 | H15: 1.2 | I15: 2.12 | J15: 1.76 | K15: 0.59 | L15: 5.69 | M15: 5.83 | N15: 4.63 | O15: 16.17 | P15: =1/G15 -> 16.129032
A16: Bed_Lister_04R38" | B16: =(4*38)/12 -> 12.666667 | C16: TRACTOR_MFWD_150HP_CB | D16: 31900 | E16: 160 | F16: 8 | G16: 0.228 | H16: 4.4 | I16: 5.18 | J16: 1.7 | K16: 1.38 | L16: 12.67 | M16: 6.6 | N16: 10.36 | O16: 29.64 | P16: =1/G16 -> 4.3859649
A17: Bed_Lister_06R38" | B17: =(6*38)/12 -> 19 | C17: TRACTOR_MFWD_150HP_CB | D17: 36000 | E17: 160 | F17: 8 | G17: 0.12 | H17: 2.31 | I17: 2.72 | J17: 1.01 | K17: 0.72 | L17: 6.78 | M17: 3.92 | N17: 5.45 | O17: 16.16 | P17: =1/G17 -> 8.3333333
A18: Bed_Lister_08R30" | B18: =(8*30)/12 -> 20 | C18: TRACTOR_MFWD_190HP_CB | D18: 48300 | E18: 160 | F18: 8 | G18: 0.114 | H18: 2.2 | I18: 3.28 | J18: 1.29 | K18: 1 | L18: 7.78 | M18: 4.99 | N18: 7.75 | O18: 20.53 | P18: =1/G18 -> 8.7719298
A19: Bed_Lister_08R38" | B19: =(8*38)/12 -> 25.333333 | C19: TRACTOR_MFWD_190HP_CB | D19: 48700 | E19: 160 | F19: 8 | G19: 0.09 | H19: 1.74 | I19: 2.59 | J19: 1.03 | K19: 0.79 | L19: 6.15 | M19: 3.98 | N19: 6.13 | O19: 16.27 | P19: =1/G19 -> 11.111111
A20: Bed_Lister_08R38"_(2x1) | B20: =(8*38)/12 -> 25.333333 | C20: TRACTOR_MFWD_190HP_CB | D20: 81500 | E20: 160 | F20: 8 | G20: 0.06 | H20: 1.15 | I20: 1.72 | J20: 1.14 | K20: 0.52 | L20: 4.56 | M20: 4.43 | N20: 4.08 | O20: 13.08 | P20: =1/G20 -> 16.666667
A21: Bed_Lister_12R38" | B21: =(12*38)/12 -> 38 | C21: TRACTOR_MFWD_225HP_CB | D21: 81500 | E21: 160 | F21: 8 | G21: 0.06 | H21: 1.15 | I21: 2.04 | J21: 1.14 | K21: 0.57 | L21: 4.92 | M21: 4.43 | N21: 4.45 | O21: 13.82 | P21: =1/G21 -> 16.666667
A22: Bed_Lister_16R30" | B22: =(16*30)/12 -> 40 | C22: TRACTOR_MFWD_225HP_CB | D22: 94300 | E22: 160 | F22: 8 | G22: 0.035 | H22: 0.67 | I22: 1.19 | J22: 0.77 | K22: 0.33 | L22: 2.98 | M22: 3 | N22: 2.6 | O22: 8.59 | P22: =1/G22 -> 28.571429
A23: Bed_Lister_16R40" | B23: =(16*40)/12 -> 53.333333 | C23: TRACTOR_MFWD_300HP_CB | D23: 99200 | E23: 160 | F23: 8 | G23: 0.043 | H23: 0.83 | I23: 1.95 | J23: 1 | K23: 0.53 | L23: 4.32 | M23: 3.87 | N23: 4.11 | O23: 12.3 | P23: =1/G23 -> 23.255814
A24: Bed_Lister_Roller_Folding_08R38" | B24: =(8*38)/12 -> 25.333333 | C24: TRACTOR_MFWD_190HP_CB | D24: 31400 | E24: 160 | F24: 10 | G24: 0.095 | H24: 1.84 | I24: 2.75 | J24: 0.75 | K24: 0.84 | L24: 6.2 | M24: 2.48 | N24: 6.51 | O24: 15.2 | P24: =1/G24 -> 10.526316
A25: Bed_Lister_Roller_Folding_12R30" | B25: =(12*30)/12 -> 30 | C25: TRACTOR_MFWD_225HP_CB | D25: 37800 | E25: 160 | F25: 10 | G25: 0.08 | H25: 1.55 | I25: 2.75 | J25: 0.76 | K25: 0.77 | L25: 5.85 | M25: 2.52 | N25: 6 | O25: 14.38 | P25: =1/G25 -> 12.5
A26: Bed_Lister_Roller_Folding_12R38" | B26: =(12*38)/12 -> 38 | C26: TRACTOR_MFWD_225HP_CB | D26: 60900 | E26: 160 | F26: 10 | G26: 0.063 | H26: 1.23 | I26: 2.17 | J26: 0.97 | K26: 0.61 | L26: 4.98 | M26: 3.21 | N26: 4.73 | O26: 12.93 | P26: =1/G26 -> 15.873016
A27: Bed_Lister_Roller_Folding_16R30" | B27: =(16*30)/12 -> 40 | C27: TRACTOR_MFWD_225HP_CB | D27: 79500 | E27: 160 | F27: 10 | G27: 0.06 | H27: 1.16 | I27: 2.06 | J27: 1.2 | K27: 0.58 | L27: 5.02 | M27: 3.98 | N27: 4.5 | O27: 13.5 | P27: =1/G27 -> 16.666667
A28: Bed_Lister_Roller_Rigid_08R38" | B28: =(8*38)/12 -> 25.333333 | C28: TRACTOR_MFWD_190HP_CB | D28: 25000 | E28: 160 | F28: 10 | G28: 0.095 | H28: 1.84 | I28: 2.75 | J28: 0.59 | K28: 0.84 | L28: 6.04 | M28: 1.98 | N28: 6.51 | O28: 14.54 | P28: =1/G28 -> 10.526316
A29: Bed_Paratill_Roller_04R30" | B29: =(4*30)/12 -> 10 | C29: TRACTOR_MFWD_225HP_CB | D29: 27800 | E29: 150 | F29: 12 | G29: 0.204 | H29: 3.93 | I29: 6.95 | J29: 2.05 | K29: 1.96 | L29: 14.9 | M29: 4.57 | N29: 15.16 | O29: 34.64 | P29: =1/G29 -> 4.9019608
A30: Bed_Paratill_Roller_04R38" | B30: =(4*38)/12 -> 12.666667 | C30: TRACTOR_MFWD_225HP_CB | D30: 27800 | E30: 150 | F30: 12 | G30: 0.16 | H30: 3.1 | I30: 5.47 | J30: 1.61 | K30: 1.54 | L30: 11.73 | M30: 3.6 | N30: 11.93 | O30: 27.27 | P30: =1/G30 -> 6.25
A31: Bed_Paratill_Roller_06R38" | B31: =(6*38)/12 -> 19 | C31: TRACTOR_MFWD_225HP_CB | D31: 38000 | E31: 150 | F31: 12 | G31: 0.107 | H31: 2.07 | I31: 3.66 | J31: 1.47 | K31: 1.03 | L31: 8.24 | M31: 3.29 | N31: 7.97 | O31: 19.51 | P31: =1/G31 -> 9.3457944
A32: Bed_Ripper_Disk_Cond._06ROW | B32: =(6*38)/12 -> 19 | C32: TRACTOR_MFWD_225HP_CB | D32: 44500 | E32: 150 | F32: 12 | G32: 0.107 | H32: 2.07 | I32: 3.66 | J32: 1.72 | K32: 1.03 | L32: 8.49 | M32: 3.85 | N32: 7.97 | O32: 20.32 | P32: =1/G32 -> 9.3457944
A33: Bed_Ripper_Disk_Cond._08ROW | B33: =(8*38)/12 -> 25.333333 | C33: TRACTOR_MFWD_225HP_CB | D33: 59000 | E33: 150 | F33: 12 | G33: 0.08 | H33: 1.55 | I33: 2.74 | J33: 1.72 | K33: 0.77 | L33: 6.8 | M33: 3.83 | N33: 5.99 | O33: 16.63 | P33: =1/G33 -> 12.5
A34: Bed_Ripper_Disk_Folding_08R38" | B34: =(8*38)/12 -> 25.333333 | C34: TRACTOR_MFWD_190HP_CB | D34: 72400 | E34: 300 | F34: 20 | G34: 0.073 | H34: 1.4 | I34: 2.1 | J34: 0.26 | K34: 0.64 | L34: 4.41 | M34: 1.75 | N34: 4.96 | O34: 11.13 | P34: =1/G34 -> 13.69863
A35: Bed_Ripper_Disk_Folding_12R30" | B35: =(12*30)/12 -> 30 | C35: TRACTOR_MFWD_225HP_CB | D35: 102000 | E35: 300 | F35: 20 | G35: 0.061 | H35: 1.18 | I35: 2.09 | J35: 0.31 | K35: 0.59 | L35: 4.19 | M35: 2.08 | N35: 4.57 | O35: 10.84 | P35: =1/G35 -> 16.393443
A36: Bed_Ripper_Disk_Folding_12R38" | B36: =(12*38)/12 -> 38 | C36: TRACTOR_MFWD_225HP_CB | D36: 102000 | E36: 300 | F36: 20 | G36: 0.046 | H36: 0.89 | I36: 1.57 | J36: 0.23 | K36: 0.44 | L36: 3.14 | M36: 1.56 | N36: 3.42 | O36: 8.13 | P36: =1/G36 -> 21.73913
A37: Bed_Ripper_Disk_Rigid_04R30" | B37: =(4*30)/12 -> 10 | C37: TRACTOR_MFWD_190HP_CB | D37: 32100 | E37: 300 | F37: 20 | G37: 0.184 | H37: 3.56 | I37: 5.31 | J37: 0.29 | K37: 1.62 | L37: 10.79 | M37: 1.96 | N37: 12.55 | O37: 25.32 | P37: =1/G37 -> 5.4347826
A38: Bed_Ripper_Disk_Rigid_04R38" | B38: =(4*38)/12 -> 12.666667 | C38: TRACTOR_MFWD_190HP_CB | D38: 32100 | E38: 300 | F38: 20 | G38: 0.146 | H38: 2.82 | I38: 4.21 | J38: 0.23 | K38: 1.28 | L38: 8.57 | M38: 1.56 | N38: 9.96 | O38: 20.09 | P38: =1/G38 -> 6.8493151
A39: Bed_Ripper_Disk_Rigid_06R30" | B39: =(6*30)/12 -> 15 | C39: TRACTOR_MFWD_190HP_CB | D39: 44500 | E39: 300 | F39: 20 | G39: 0.123 | H39: 2.37 | I39: 3.54 | J39: 0.27 | K39: 1.08 | L39: 7.27 | M39: 1.81 | N39: 8.37 | O39: 17.46 | P39: =1/G39 -> 8.1300813
A40: Bed_Ripper_Disk_Rigid_06R38" | B40: =(6*38)/12 -> 19 | C40: TRACTOR_MFWD_190HP_CB | D40: 44500 | E40: 300 | F40: 20 | G40: 0.097 | H40: 1.87 | I40: 2.79 | J40: 0.21 | K40: 0.85 | L40: 5.74 | M40: 1.43 | N40: 6.6 | O40: 13.78 | P40: =1/G40 -> 10.309278
...

Sheet COMBINE_TRACTOR_UTV
A1: 1 | B1: 2 | C1: 3 | D1: 4 | E1: 5 | F1: 6 | G1: 7 | H1: 8 | I1: 9 | J1: 10 | K1: 11 | L1: 12
A2: EQUIPMENT/SIZE | B2: PURCHASE PRICE ($) | C2: ANNUAL USE (HOURS) | D2: USEFUL LIFE (YEARS) | E2: FUEL USE (GAL/HR) | F2: LABOR ($/HR) | G2: FUEL ($/HR) | H2: R&M ($/HR) | I2: TOTAL_DIRECT ($/HR) | J2: FIXED ($/HR) | K2: TOTAL_COST ($/HR) | L2: HP
A3: None | B3: 0 | C3: 0 | D3: 0 | E3: 0 | F3: 0 | G3: 0 | H3: 0 | I3: 0 | J3: 0 | K3: 0 | L3: 0
A4: COMBINE_265HP | B4: 463000 | C4: 300 | D4: 8 | E4: 13.64 | F4: 19.28 | G4: 40.1 | H4: 48.22 | I4: 107.61 | J4: 230.93 | K4: 338.54 | L4: 265
A5: COMBINE_325HP | B5: 560000 | C5: 300 | D5: 8 | E5: 16.73 | F5: 19.28 | G5: 49.18 | H5: 58.33 | I5: 126.79 | J5: 279.31 | K5: 406.11 | L5: 325
A6: COMBINE_355HP | B6: 565000 | C6: 300 | D6: 8 | E6: 18.27 | F6: 19.28 | G6: 53.71 | H6: 58.85 | I6: 131.84 | J6: 281.8 | K6: 413.65 | L6: 355
A7: COMBINE_425HP | B7: 568000 | C7: 300 | D7: 8 | E7: 21.87 | F7: 19.28 | G7: 64.31 | H7: 59.16 | I7: 142.76 | J7: 283.3 | K7: 426.06 | L7: 425
A8: COMBINE_475HP | B8: 613000 | C8: 300 | D8: 8 | E8: 24.44 | F8: 19.28 | G8: 71.88 | H8: 63.85 | I8: 155.01 | J8: 305.74 | K8: 460.76 | L8: 475
A9: TRACTOR_MFWD_030HP_CB | B9: 39500 | C9: 600 | D9: 8 | E9: 1.54 | F9: 19.28 | G9: 4.53 | H9: 1.23 | I9: 25.05 | J9: 9.24 | K9: 34.29 | L9: 30
A10: TRACTOR_MFWD_030HP_RB | B10: 27700 | C10: 600 | D10: 8 | E10: 1.54 | F10: 19.28 | G10: 4.53 | H10: 0.86 | I10: 24.68 | J10: 6.48 | K10: 31.16 | L10: 30
A11: TRACTOR_2WD_050HP_CB | B11: 39800 | C11: 600 | D11: 8 | E11: 2.57 | F11: 19.28 | G11: 7.56 | H11: 1.24 | I11: 28.09 | J11: 9.31 | K11: 37.4 | L11: 50
A12: TRACTOR_MFWD_050HP_CB | B12: 53300 | C12: 600 | D12: 8 | E12: 2.57 | F12: 19.28 | G12: 7.56 | H12: 1.66 | I12: 28.51 | J12: 12.47 | K12: 40.98 | L12: 50
A13: TRACTOR_2WD_050HP_RB | B13: 29200 | C13: 600 | D13: 8 | E13: 2.57 | F13: 19.28 | G13: 7.56 | H13: 0.91 | I13: 27.75 | J13: 6.83 | K13: 34.59 | L13: 50
A14: TRACTOR_MFWD_050HP_RB | B14: 34300 | C14: 600 | D14: 8 | E14: 2.57 | F14: 19.28 | G14: 7.56 | H14: 1.07 | I14: 27.91 | J14: 8.02 | K14: 35.94 | L14: 50
... A36: TRACTOR_TRACK_500HP_CB | B36: 700000 | C36: 600 | D36: 8 | E36: 25.73 | F36: 19.28 | G36: 75.66 | H36: 21.87 | I36: 116.81 | J36: 169.18 | K36: 286 | L36: 500
A37: UTV_800CC | B37: 12200 | C37: 200 | D37: 8 | E37: 0.7 | F37: 19.28 | G37: 1.88 | H37: 1.9 | I37: 23.06 | J37: 9.12 | K37: 32.19 | L37: =800/15 -> 53.333333
A38: UTV_900CC | B38: 18700 | C38: 200 | D38: 8 | E38: 1 | F38: 19.28 | G38: 2.69 | H38: 2.92 | I38: 24.89 | J38: 13.99 | K38: 38.88 | L38: =900/15 -> 60
