Workbook

Sheet INTRO
B6: Tractor Recommendation Worksheet The Tractor Recommendation Worksheet is an analytical tool developed to assist agricultural producers in evaluating the power requirements associated with a wide range of towed implements used in farming operations. Because the horsepower needed to operate an implement varies according to implement size and functional purpose, it is essential for producers to understand the minimum tractor specifications required to ensure proper field performance. This tool enables users to assess whether their current tractor inventory is adequate for newly adopted or existing implements and to consider potential adjustments in equipment holdings when operational changes occur. In addition to identifying appropriate power units, the worksheet provides an estimate of the total operational cost of each implement–tractor combination, expressed on a per‑acre basis. These cost estimates support financial planning and help producers evaluate the economic implications and potential profitability of modifying their production systems or investing in new equipment. All implement recommendations and cost data incorporated into this tool are derived from the published Mississippi State University 2026 Crop Planning Budgets. The information is offered exclusively for educational purposes. Users are advised that all outputs are provided “as‑is,” without warranty of accuracy, completeness, or fitness for a particular purpose. The USDA Agricultural Research Service does not guarantee the functionality of the tool and assumes no responsibility for decisions made based on its results. Users bear all risks associated with the use or reliance upon any output generated by this worksheet.
B43: Trent A. Morton Agricultural Economist ARS | National Soil Dynamics Laboratory Agricultural Research Service 411 S Donahue Drive, Auburn, AL 36832 p: (334) 844-4741 ext. 2743 | c: (334) 332-2530 email: trent.morton@usda.gov | H43: UPDATED: 12/16/2025

Sheet RECOMMENDATIONS
A1: TRACTOR RECOMMENDATION FOR A TOWED IMPLEMENT
C2: & TOTAL COSTS FOR IMPLEMENTS USED
C5: IMPLEMENT (Select one from list) | F5: RECOMMENDED POWER UNIT
C6: Bed_Disk_Hipper_04R38" | F6: =INDEX(TOWED_IMPLEMENTS!$A$3:$P$389,MATCH(RECOMMENDATIONS!$C$6,TOWED_IMPLEMENTS!$A$3:$A$389,0),3) -> TRACTOR_MFWD_150HP_CB
C8: WIDTH (FEET) | F8: HORSEPOWER
C9: =INDEX(TOWED_IMPLEMENTS!$A$3:$P$389,MATCH(RECOMMENDATIONS!$C$6,TOWED_IMPLEMENTS!$A$3:$A$389,0),2) -> 12.666667 | F9: =INDEX(COMBINE_TRACTOR_UTV!$A$3:$L$38,MATCH(RECOMMENDATIONS!$F$6,COMBINE_TRACTOR_UTV!$A$3:$A$38,0),12) -> 150
C11: MSRP ($US) | F11: MSRP ($US)
C12: =INDEX(TOWED_IMPLEMENTS!$A$3:$P$389,MATCH(RECOMMENDATIONS!$C$6,TOWED_IMPLEMENTS!$A$3:$A$389,0),4) -> 15700 | F12: =INDEX(COMBINE_TRACTOR_UTV!$A$3:$L$38,MATCH(RECOMMENDATIONS!$F$6,COMBINE_TRACTOR_UTV!$A$3:$A$38,0),2) -> 193900
C14: USEFUL LIFE (YEARS) | F14: USEFUL LIFE (YEARS)
C15: =INDEX(TOWED_IMPLEMENTS!$A$3:$P$389,MATCH(RECOMMENDATIONS!$C$6,TOWED_IMPLEMENTS!$A$3:$A$389,0),6) -> 10 | F15: =INDEX(COMBINE_TRACTOR_UTV!$A$3:$L$38,MATCH(RECOMMENDATIONS!$F$6,COMBINE_TRACTOR_UTV!$A$3:$A$38,0),4) -> 8
C17: FIELD CAPACITY (ACRES/HOUR) | F17: FUEL USE (GALLONS/ACRE)
C18: =INDEX(TOWED_IMPLEMENTS!$A$3:$P$389,MATCH(RECOMMENDATIONS!$C$6,TOWED_IMPLEMENTS!$A$3:$A$389,0),16) -> 6.8027211 | F18: =INDEX(COMBINE_TRACTOR_UTV!$A$3:$L$38,MATCH(RECOMMENDATIONS!$F$6,COMBINE_TRACTOR_UTV!$A$3:$A$38,0),5) -> 7.72
C22: TOTAL COST ($US/ACRE)
C23: =INDEX(TOWED_IMPLEMENTS!$A$3:$P$389,MATCH(RECOMMENDATIONS!$C$6,TOWED_IMPLEMENTS!$A$3:$A$389,0),15) -> 16.28
C26: **All recommendations and prices are based on data from the Mississippi State University 2026 Crop Planning Budgets

Sheet TOWED_IMPLEMENTS
A1: 1 | B1: 2 | C1: 3 | D1: 4 | E1: 5 | F1: 6 | G1: 7 | H1: 8 | I1: 9 | J1: 10 | K1: 11 | L1: 12 | M1: 13 | N1: 14 | O1: 15 | P1: 16
A2: EQUIPMENT/SIZE | B2: WIDTH (FEET) | C2: RECOMMENDED POWER UNIT | D2: PURCHASE PRICE ($) | E2: ANNUAL USE (HOURS) | F2: USEFUL LIFE (YEARS) | G2: PERF_RATE (HR/ACRE) | H2: LABOR ($/ACRE) | I2: FUEL ($/ACRE) | J2: R&M_IMP ($/ACRE) | K2: R&M_PU ($/ACRE) | L2: TOTAL_DIRECT ($/ACRE) | M2: FIXED_IMP ($/ACRE) | N2: FIXED_PU ($/ACRE) | O2: TOTAL_COST ($/ACRE) | P2: FIELD CAPACITY (ACRES/HR)
A3: None | B3: 0 | C3: None | D3: 0 | E3: 0 | F3: 0 | G3: 0 | H3: 0 | I3: 0 | J3: 0 | K3: 0 | L3: 0 | M3: 0 | N3: 0 | O3: 0 | P3: 0
A4: Bed_Disk_Hipper_04R38" | B4: =(4*38)/12 -> 12.666667 | C4: TRACTOR_MFWD_150HP_CB | D4: 15700 | E4: 160 | F4: 10 | G4: 0.147 | H4: 2.84 | I4: 3.35 | J4: 0.57 | K4: 0.89 | L4: 7.67 | M4: 1.91 | N4: 6.69 | O4: 16.28 | P4: =1/G4 -> 6.8027211
A5: Bed_Disk_Hipper_06R38" | B5: =(6*38)/12 -> 19 | C5: TRACTOR_MFWD_170HP_CB | D5: 29900 | E5: 160 | F5: 10 | G5: 0.098 | H5: 1.9 | I5: 2.53 | J5: 0.73 | K5: 0.67 | L5: 5.85 | M5: 2.43 | N5: 5.21 | O5: 13.5 | P5: =1/G5 -> 10.204082
A6: Bed_Disk_Hipper_08R30" | B6: =(8*30)/12 -> 20 | C6: TRACTOR_MFWD_190HP_CB | D6: 33100 | E6: 160 | F6: 10 | G6: 0.093 | H6: 1.8 | I6: 2.69 | J6: 0.77 | K6: 0.82 | L6: 6.1 | M6: 2.56 | N6: 6.36 | O6: 15.03 | P6: =1/G6 -> 10.752688
A7: Bed_Disk_Hipper_08R38"_(2x1) | B7: =(8*38)/12 -> 25.333333 | C7: TRACTOR_MFWD_190HP_CB | D7: 114000 | E7: 160 | F7: 10 | G7: 0.049 | H7: 0.95 | I7: 1.41 | J7: 1.4 | K7: 0.43 | L7: 4.2 | M7: 4.64 | N7: 3.35 | O7: 12.2 | P7: =1/G7 -> 20.408163
A8: Bed_Disk_Hipper_12R30" | B8: =(12*30)/12 -> 30 | C8: TRACTOR_MFWD_225HP_CB | D8: 85400 | E8: 160 | F8: 10 | G8: 0.062 | H8: 1.2 | I8: 2.12 | J8: 1.33 | K8: 0.59 | L8: 5.26 | M8: 4.4 | N8: 4.63 | O8: 14.31 | P8: =1/G8 -> 16.129032
A9: Bed_Disk_Hipper_12R38" | B9: =(12*38)/12 -> 38 | C9: TRACTOR_MFWD_225HP_CB | D9: 114000 | E9: 160 | F9: 10 | G9: 0.049 | H9: 0.95 | I9: 1.67 | J9: 1.4 | K9: 0.47 | L9: 4.51 | M9: 4.64 | N9: 3.66 | O9: 12.81 | P9: =1/G9 -> 20.408163
A10: Bed_Disk_Hipper_16R40" | B10: =(16*40)/12 -> 53.333333 | C10: TRACTOR_MFWD_300HP_CB | D10: 135000 | E10: 160 | F10: 10 | G10: 0.035 | H10: 0.68 | I10: 1.6 | J10: 1.19 | K10: 0.43 | L10: 3.91 | M10: 3.94 | N10: 3.37 | O10: 11.24 | P10: =1/G10 -> 28.571429
A11: Bed_Disk_Hipper_Folding_08R38" | B11: =(8*38)/12 -> 25.333333 | C11: TRACTOR_MFWD_190HP_CB | D11: 83500 | E11: 160 | F11: 10 | G11: 0.074 | H11: 1.42 | I11: 2.13 | J11: 1.54 | K11: 0.65 | L11: 5.75 | M11: 5.11 | N11: 5.03 | O11: 15.9 | P11: =1/G11 -> 13.513514
A12: Bed_Disk_Hipper_Rigid_08R38" | B12: =(8*38)/12 -> 25.333333 | C12: TRACTOR_MFWD_190HP_CB | D12: 46800 | E12: 160 | F12: 10 | G12: 0.074 | H12: 1.42 | I12: 2.13 | J12: 0.86 | K12: 0.65 | L12: 5.07 | M12: 2.86 | N12: 5.03 | O12: 12.97 | P12: =1/G12 -> 13.513514
A13: Bed_Disk_Roller_08R30" | B13: =(8*30)/12 -> 20 | C13: TRACTOR_MFWD_190HP_CB | D13: 59900 | E13: 160 | F13: 10 | G13: 0.093 | H13: 1.8 | I13: 2.69 | J13: 1.4 | K13: 0.82 | L13: 6.73 | M13: 4.63 | N13: 6.36 | O13: 17.73 | P13: =1/G13 -> 10.752688
A14: Bed_Disk_Roller_08R38" | B14: =(8*38)/12 -> 25.333333 | C14: TRACTOR_MFWD_190HP_CB | D14: 68500 | E14: 160 | F14: 10 | G14: 0.074 | H14: 1.42 | I14: 2.13 | J14: 1.26 | K14: 0.65 | L14: 5.47 | M14: 4.19 | N14: 5.03 | O14: 14.7 | P14: =1/G14 -> 13.513514
A15: Bed_Disk_Roller_12R30-40" | B15: =(12*30)/12 -> 30 | C15: TRACTOR_MFWD_225HP_CB | D15: 113000 | E15: 160 | F15: 10 | G15: 0.062 | H15: 1.2 | I15: 2.12 | J15: 1.76 | K15: 0.59 | L15: 5.69 | M15: 5.83 | N15: 4.63 | O15: 16.17 | P15: =1/G15 -> 16.129032
A16: Bed_Lister_04R38" | B16: =(4*38)/12 -> 12.666667 | C16: TRACTOR_MFWD_150HP_CB | D16: 31900 | E16: 160 | F16: 8 | G16: 0.228 | H16: 4.4 | I16: 5.18 | J16: 1.7 | K16: 1.38 | L16: 12.67 | M16: 6.6 | N16: 10.36 | O16: 29.64 | P16: =1/G16 -> 4.3859649
A17: Bed_Lister_06R38" | B17: =(6*38)/12 -> 19 | C17: TRACTOR_MFWD_150HP_CB | D17: 36000 | E17: 160 | F17: 8 | G17: 0.12 | H17: 2.31 | I17: 2.72 | J17: 1.01 | K17: 0.72 | L17: 6.78 | M17: 3.92 | N17: 5.45 | O17: 16.16 | P17: =1/G17 -> 8.3333333
A18: Bed_Lister_08R30" | B18: =(8*30)/12 -> 20 | C18: TRACTOR_MFWD_190HP_CB | D18: 48300 | E18: 160 | F18: 8 | G18: 0.114 | H18: 2.2 | I18: 3.28 | J18: 1.29 | K18: 1 | L18: 7.78 | M18: 4.99 | N18: 7.75 | O18: 20.53 | P18: =1/G18 -> 8.7719298
A19: Bed_Lister_08R38" | B19: =(8*38)/12 -> 25.333333 | C19: TRACTOR_MFWD_190HP_CB | D19: 48700 | E19: 160 | F19: 8 | G19: 0.09 | H19: 1.74 | I19: 2.59 | J19: 1.03 | K19: 0.79 | L19: 6.15 | M19: 3.98 | N19: 6.13 | O19: 16.27 | P19: =1/G19 -> 11.111111
A20: Bed_Lister_08R38"_(2x1) | B20: =(8*38)/12 -> 25.333333 | C20: TRACTOR_MFWD_190HP_CB | D20: 81500 | E20: 160 | F20: 8 | G20: 0.06 | H20: 1.15 | I20: 1.72 | J20: 1.14 | K20: 0.52 | L20: 4.56 | M20: 4.43 | N20: 4.08 | O20: 13.08 | P20: =1/G20 -> 16.666667
A21: Bed_Lister_12R38" | B21: =(12*38)/12 -> 38 | C21: TRACTOR_MFWD_225HP_CB | D21: 81500 | E21: 160 | F21: 8 | G21: 0.06 | H21: 1.15 | I21: 2.04 | J21: 1.14 | K21: 0.57 | L21: 4.92 | M21: 4.43 | N21: 4.45 | O21: 13.82 | P21: =1/G21 -> 16.666667
A22: Bed_Lister_16R30" | B22: =(16*30)/12 -> 40 | C22: TRACTOR_MFWD_225HP_CB | D22: 94300 | E22: 160 | F22: 8 | G22: 0.035 | H22: 0.67 | I22: 1.19 | J22: 0.77 | K22: 0.33 | L22: 2.98 | M22: 3 | N22: 2.6 | O22: 8.59 | P22: =1/G22 -> 28.571429
A23: Bed_Lister_16R40" | B23: =(16*40)/12 -> 53.333333 | C23: TRACTOR_MFWD_300HP_CB | D23: 99200 | E23: 160 | F23: 8 | G23: 0.043 | H23: 0.83 | I23: 1.95 | J23: 1 | K23: 0.53 | L23: 4.32 | M23: 3.87 | N23: 4.11 | O23: 12.3 | P23: =1/G23 -> 23.255814
A24: Bed_Lister_Roller_Folding_08R38" | B24: =(8*38)/12 -> 25.333333 | C24: TRACTOR_MFWD_190HP_CB | D24: 31400 | E24: 160 | F24: 10 | G24: 0.095 | H24: 1.84 | I24: 2.75 | J24: 0.75 | K24: 0.84 | L24: 6.2 | M24: 2.48 | N24: 6.51 | O24: 15.2 | P24: =1/G24 -> 10.526316
A25: Bed_Lister_Roller_Folding_12R30" | B25: =(12*30)/12 -> 30 | C25: TRACTOR_MFWD_225HP_CB | D25: 37800 | E25: 160 | F25: 10 | G25: 0.08 | H25: 1.55 | I25: 2.75 | J25: 0.76 | K25: 0.77 | L25: 5.85 | M25: 2.52 | N25: 6 | O25: 14.38 | P25: =1/G25 -> 12.5
A26: Bed_Lister_Roller_Folding_12R38" | B26: =(12*38)/12 -> 38 | C26: TRACTOR_MFWD_225HP_CB | D26: 60900 | E26: 160 | F26: 10 | G26: 0.063 | H26: 1.23 | I26: 2.17 | J26: 0.97 | K26: 0.61 | L26: 4.98 | M26: 3.21 | N26: 4.73 | O26: 12.93 | P26: =1/G26 -> 15.873016
A27: Bed_Lister_Roller_Folding_16R30" | B27: =(16*30)/12 -> 40 | C27: TRACTOR_MFWD_225HP_CB | D27: 79500 | E27: 160 | F27: 10 | G27: 0.06 | H27: 1.16 | I27: 2.06 | J27: 1.2 | K27: 0.58 | L27: 5.02 | M27: 3.98 | N27: 4.5 | O27: 13.5 | P27: =1/G27 -> 16.666667
A28: Bed_Lister_Roller_Rigid_08R38" | B28: =(8*38)/12 -> 25.333333 | C28: TRACTOR_MFWD_190HP_CB | D28: 25000 | E28: 160 | F28: 10 | G28: 0.095 | H28: 1.84 | I28: 2.75 | J28: 0.59 | K28: 0.84 | L28: 6.04 | M28: 1.98 | N28: 6.51 | O28: 14.54 | P28: =1/G28 -> 10.526316
A29: Bed_Paratill_Roller_04R30" | B29: =(4*30)/12 -> 10 | C29: TRACTOR_MFWD_225HP_CB | D29: 27800 | E29: 150 | F29: 12 | G29: 0.204 | H29: 3.93 | I29: 6.95 | J29: 2.05 | K29: 1.96 | L29: 14.9 | M29: 4.57 | N29: 15.16 | O29: 34.64 | P29: =1/G29 -> 4.9019608
A30: Bed_Paratill_Roller_04R38" | B30: =(4*38)/12 -> 12.666667 | C30: TRACTOR_MFWD_225HP_CB | D30: 27800 | E30: 150 | F30: 12 | G30: 0.16 | H30: 3.1 | I30: 5.47 | J30: 1.61 | K30: 1.54 | L30: 11.73 | M30: 3.6 | N30: 11.93 | O30: 27.27 | P30: =1/G30 -> 6.25
A31: Bed_Paratill_Roller_06R38" | B31: =(6*38)/12 -> 19 | C31: TRACTOR_MFWD_225HP_CB | D31: 38000 | E31: 150 | F31: 12 | G31: 0.107 | H31: 2.07 | I31: 3.66 | J31: 1.47 | K31: 1.03 | L31: 8.24 | M31: 3.29 | N31: 7.97 | O31: 19.51 | P31: =1/G31 -> 9.3457944
A32: Bed_Ripper_Disk_Cond._06ROW | B32: =(6*38)/12 -> 19 | C32: TRACTOR_MFWD_225HP_CB | D32: 44500 | E32: 150 | F32: 12 | G32: 0.107 | H32: 2.07 | I32: 3.66 | J32: 1.72 | K32: 1.03 | L32: 8.49 | M32: 3.85 | N32: 7.97 | O32: 20.32 | P32: =1/G32 -> 9.3457944
A33: Bed_Ripper_Disk_Cond._08ROW | B33: =(8*38)/12 -> 25.333333 | C33: TRACTOR_MFWD_225HP_CB | D33: 59000 | E33: 150 | F33: 12 | G33: 0.08 | H33: 1.55 | I33: 2.74 | J33: 1.72 | K33: 0.77 | L33: 6.8 | M33: 3.83 | N33: 5.99 | O33: 16.63 | P33: =1/G33 -> 12.5
A34: Bed_Ripper_Disk_Folding_08R38" | B34: =(8*38)/12 -> 25.333333 | C34: TRACTOR_MFWD_190HP_CB | D34: 72400 | E34: 300 | F34: 20 | G34: 0.073 | H34: 1.4 | I34: 2.1 | J34: 0.26 | K34: 0.64 | L34: 4.41 | M34: 1.75 | N34: 4.96 | O34: 11.13 | P34: =1/G34 -> 13.69863
A35: Bed_Ripper_Disk_Folding_12R30" | B35: =(12*30)/12 -> 30 | C35: TRACTOR_MFWD_225HP_CB | D35: 102000 | E35: 300 | F35: 20 | G35: 0.061 | H35: 1.18 | I35: 2.09 | J35: 0.31 | K35: 0.59 | L35: 4.19 | M35: 2.08 | N35: 4.57 | O35: 10.84 | P35: =1/G35 -> 16.393443
A36: Bed_Ripper_Disk_Folding_12R38" | B36: =(12*38)/12 -> 38 | C36: TRACTOR_MFWD_225HP_CB | D36: 102000 | E36: 300 | F36: 20 | G36: 0.046 | H36: 0.89 | I36: 1.57 | J36: 0.23 | K36: 0.44 | L36: 3.14 | M36: 1.56 | N36: 3.42 | O36: 8.13 | P36: =1/G36 -> 21.73913
A37: Bed_Ripper_Disk_Rigid_04R30" | B37: =(4*30)/12 -> 10 | C37: TRACTOR_MFWD_190HP_CB | D37: 32100 | E37: 300 | F37: 20 | G37: 0.184 | H37: 3.56 | I37: 5.31 | J37: 0.29 | K37: 1.62 | L37: 10.79 | M37: 1.96 | N37: 12.55 | O37: 25.32 | P37: =1/G37 -> 5.4347826
A38: Bed_Ripper_Disk_Rigid_04R38" | B38: =(4*38)/12 -> 12.666667 | C38: TRACTOR_MFWD_190HP_CB | D38: 32100 | E38: 300 | F38: 20 | G38: 0.146 | H38: 2.82 | I38: 4.21 | J38: 0.23 | K38: 1.28 | L38: 8.57 | M38: 1.56 | N38: 9.96 | O38: 20.09 | P38: =1/G38 -> 6.8493151
A39: Bed_Ripper_Disk_Rigid_06R30" | B39: =(6*30)/12 -> 15 | C39: TRACTOR_MFWD_190HP_CB | D39: 44500 | E39: 300 | F39: 20 | G39: 0.123 | H39: 2.37 | I39: 3.54 | J39: 0.27 | K39: 1.08 | L39: 7.27 | M39: 1.81 | N39: 8.37 | O39: 17.46 | P39: =1/G39 -> 8.1300813
A40: Bed_Ripper_Disk_Rigid_06R38" | B40: =(6*38)/12 -> 19 | C40: TRACTOR_MFWD_190HP_CB | D40: 44500 | E40: 300 | F40: 20 | G40: 0.097 | H40: 1.87 | I40: 2.79 | J40: 0.21 | K40: 0.85 | L40: 5.74 | M40: 1.43 | N40: 6.6 | O40: 13.78 | P40: =1/G40 -> 10.309278
A41: Bed_Ripper_Disk_Rigid_08R30" | B41: =(8*30)/12 -> 20 | C41: TRACTOR_MFWD_190HP_CB | D41: 59000 | E41: 300 | F41: 20 | G41: 0.139 | H41: 2.67 | I41: 3.99 | J41: 0.41 | K41: 1.22 | L41: 8.3 | M41: 2.71 | N41: 9.44 | O41: 20.46 | P41: =1/G41 -> 7.1942446
A42: Bed_Ripper_Disk_Rigid_08R38" | B42: =(8*38)/12 -> 25.333333 | C42: TRACTOR_MFWD_190HP_CB | D42: 59000 | E42: 300 | F42: 20 | G42: 0.073 | H42: 1.4 | I42: 2.1 | J42: 0.21 | K42: 0.64 | L42: 4.36 | M42: 1.42 | N42: 4.96 | O42: 10.75 | P42: =1/G42 -> 13.69863
A43: Bed_Subsoil_Folding_08R38" | B43: =(8*38)/12 -> 25.333333 | C43: TRACTOR_MFWD_225HP_CB | D43: 72400 | E43: 150 | F43: 12 | G43: 0.08 | H43: 1.55 | I43: 2.74 | J43: 2.11 | K43: 0.77 | L43: 7.19 | M43: 4.7 | N43: 5.99 | O43: 17.89 | P43: =1/G43 -> 12.5
A44: Bed_Subsoil_Folding_08R38"_(2x1) | B44: =(8*38)/12 -> 25.333333 | C44: TRACTOR_MFWD_225HP_CB | D44: 102600 | E44: 150 | F44: 12 | G44: 0.053 | H44: 1.03 | I44: 1.83 | J44: 1.99 | K44: 0.51 | L44: 5.37 | M44: 4.44 | N44: 3.98 | O44: 13.8 | P44: =1/G44 -> 18.867925
A45: Bed_Subsoil_Folding_12R38" | B45: =(12*38)/12 -> 38 | C45: TRACTOR_MFWD_225HP_CB | D45: 102600 | E45: 150 | F45: 12 | G45: 0.053 | H45: 1.03 | I45: 1.83 | J45: 1.99 | K45: 0.51 | L45: 5.37 | M45: 4.44 | N45: 3.98 | O45: 13.8 | P45: =1/G45 -> 18.867925
A46: Bed_Subsoil_Rigid_04R30" | B46: =(4*30)/12 -> 10 | C46: TRACTOR_MFWD_225HP_CB | D46: 26100 | E46: 150 | F46: 12 | G46: 0.204 | H46: 3.93 | I46: 6.95 | J46: 1.92 | K46: 1.96 | L46: 14.78 | M46: 4.29 | N46: 15.16 | O46: 34.23 | P46: =1/G46 -> 4.9019608
A47: Bed_Subsoil_Rigid_04R38" | B47: =(4*38)/12 -> 12.666667 | C47: TRACTOR_MFWD_225HP_CB | D47: 27800 | E47: 150 | F47: 12 | G47: 0.16 | H47: 3.1 | I47: 5.47 | J47: 1.61 | K47: 1.54 | L47: 11.73 | M47: 3.6 | N47: 11.93 | O47: 27.27 | P47: =1/G47 -> 6.25
A48: Bed_Subsoil_Rigid_06R30" | B48: =(6*30)/12 -> 15 | C48: TRACTOR_MFWD_225HP_CB | D48: 36300 | E48: 150 | F48: 12 | G48: 0.136 | H48: 2.62 | I48: 4.63 | J48: 1.78 | K48: 1.3 | L48: 10.35 | M48: 3.98 | N48: 10.1 | O48: 24.44 | P48: =1/G48 -> 7.3529412
A49: Bed_Subsoil_Rigid_06R38" | B49: =(6*38)/12 -> 19 | C49: TRACTOR_MFWD_225HP_CB | D49: 37700 | E49: 150 | F49: 12 | G49: 0.107 | H49: 2.07 | I49: 3.66 | J49: 1.46 | K49: 1.03 | L49: 8.23 | M49: 3.26 | N49: 7.97 | O49: 19.47 | P49: =1/G49 -> 9.3457944
A50: Bed_Subsoil_Rigid_08R30" | B50: =(8*30)/12 -> 20 | C50: TRACTOR_MFWD_225HP_CB | D50: 48500 | E50: 150 | F50: 12 | G50: 0.102 | H50: 1.96 | I50: 3.47 | J50: 1.78 | K50: 0.98 | L50: 8.21 | M50: 3.99 | N50: 7.58 | O50: 19.79 | P50: =1/G50 -> 9.8039216
A51: Bed_Subsoil_Rigid_08R38" | B51: =(8*38)/12 -> 25.333333 | C51: TRACTOR_MFWD_225HP_CB | D51: 50100 | E51: 150 | F51: 12 | G51: 0.08 | H51: 1.55 | I51: 2.74 | J51: 1.46 | K51: 0.77 | L51: 6.54 | M51: 3.25 | N51: 5.99 | O51: 15.79 | P51: =1/G51 -> 12.5
A52: Boll Buggy_04R38"_250HP | B52: =(4*38)/12 -> 12.666667 | C52: TRACTOR_MFWD_190HP_CB | D52: 30500 | E52: 200 | F52: 10 | G52: 0.257 | H52: 4.97 | I52: 7.41 | J52: 1.96 | K52: 2.26 | L52: 16.61 | M52: 5.06 | N52: 17.5 | O52: 39.18 | P52: =1/G52 -> 3.8910506
A53: Boll Buggy_04R38"_350HP | B53: =(4*38)/12 -> 12.666667 | C53: TRACTOR_MFWD_190HP_CB | D53: 30500 | E53: 200 | F53: 10 | G53: 0.257 | H53: 4.97 | I53: 7.41 | J53: 1.96 | K53: 2.26 | L53: 16.61 | M53: 5.06 | N53: 17.5 | O53: 39.18 | P53: =1/G53 -> 3.8910506
A54: Boll Buggy_04ROW(2x1)_350HP | B54: =(4*38)/12 -> 12.666667 | C54: TRACTOR_MFWD_190HP_CB | D54: 30500 | E54: 200 | F54: 10 | G54: 0.172 | H54: 3.32 | I54: 4.95 | J54: 1.31 | K54: 1.51 | L54: 11.1 | M54: 3.38 | N54: 11.7 | O54: 26.19 | P54: =1/G54 -> 5.8139535
A55: Boll Buggy_06R30"_355HP | B55: =(6*30)/12 -> 15 | C55: TRACTOR_MFWD_190HP_CB | D55: 30500 | E55: 200 | F55: 10 | G55: 0.218 | H55: 4.2 | I55: 6.27 | J55: 1.66 | K55: 1.91 | L55: 14.06 | M55: 4.28 | N55: 14.82 | O55: 33.17 | P55: =1/G55 -> 4.587156
A56: Boll Buggy_06R38"_355HP | B56: =(6*38)/12 -> 19 | C56: TRACTOR_MFWD_190HP_CB | D56: 30500 | E56: 200 | F56: 10 | G56: 0.172 | H56: 3.32 | I56: 4.95 | J56: 1.31 | K56: 1.51 | L56: 11.1 | M56: 3.38 | N56: 11.7 | O56: 26.19 | P56: =1/G56 -> 5.8139535
A57: Box Blade_6-7' | B57: 6 | C57: TRACTOR_MFWD_105HP_RB | D57: 2120 | E57: 200 | F57: 20 | G57: 0.02 | H57: 0.38 | I57: 0.31 | J57: 0.02 | K57: 0.06 | L57: 0.79 | M57: 0.02 | N57: 0.51 | O57: 1.33 | P57: =1/G57 -> 50
A58: Chisel Plow_Folding_24' | B58: 24 | C58: TRACTOR_MFWD_190HP_CB | D58: 62100 | E58: 150 | F58: 12 | G58: 0.076 | H58: 1.47 | I58: 2.19 | J58: 1.71 | K58: 0.67 | L58: 6.05 | M58: 3.82 | N58: 5.19 | O58: 15.07 | P58: =1/G58 -> 13.157895
A59: Chisel Plow_Folding_32' | B59: 32 | C59: TRACTOR_MFWD_225HP_CB | D59: 80500 | E59: 150 | F59: 12 | G59: 0.057 | H59: 1.11 | I59: 1.96 | J59: 1.67 | K59: 0.55 | L59: 5.31 | M59: 3.74 | N59: 4.28 | O59: 13.34 | P59: =1/G59 -> 17.54386
A60: Chisel Plow_Folding_42' | B60: 42 | C60: TRACTOR_MFWD_225HP_CB | D60: 93000 | E60: 150 | F60: 12 | G60: 0.044 | H60: 0.84 | I60: 1.49 | J60: 1.47 | K60: 0.42 | L60: 4.24 | M60: 3.29 | N60: 3.26 | O60: 10.81 | P60: =1/G60 -> 22.727273
A61: Chisel Plow_Folding_50' | B61: 50 | C61: TRACTOR_MFWD_225HP_CB | D61: 117000 | E61: 150 | F61: 12 | G61: 0.036 | H61: 0.71 | I61: 1.25 | J61: 1.56 | K61: 0.35 | L61: 3.88 | M61: 3.48 | N61: 2.74 | O61: 10.11 | P61: =1/G61 -> 27.777778
A62: Chisel Plow_Folding_61' | B62: 61 | C62: TRACTOR_MFWD_225HP_CB | D62: 150000 | E62: 150 | F62: 12 | G62: 0.03 | H62: 0.58 | I62: 1.03 | J62: 1.64 | K62: 0.29 | L62: 3.54 | M62: 3.66 | N62: 2.24 | O62: 9.45 | P62: =1/G62 -> 33.333333
A63: Chisel Plow_Rigid_10' | B63: 10 | C63: TRACTOR_MFWD_170HP_CB | D63: 13400 | E63: 150 | F63: 12 | G63: 0.184 | H63: 3.56 | I63: 4.75 | J63: 0.89 | K63: 1.26 | L63: 10.47 | M63: 1.99 | N63: 9.76 | O63: 22.23 | P63: =1/G63 -> 5.4347826
A64: Chisel Plow_Rigid_15' | B64: 15 | C64: TRACTOR_2WD_130HP_CB | D64: 20100 | E64: 150 | F64: 12 | G64: 0.123 | H64: 2.37 | I64: 2.42 | J64: 0.89 | K64: 0.55 | L64: 6.25 | M64: 1.99 | N64: 4.16 | O64: 12.4 | P64: =1/G64 -> 8.1300813
A65: Chisel Plow_Rigid_20' | B65: 20 | C65: TRACTOR_MFWD_225HP_CB | D65: 19800 | E65: 150 | F65: 12 | G65: 0.102 | H65: 1.98 | I65: 3.49 | J65: 0.73 | K65: 0.98 | L65: 7.19 | M65: 1.63 | N65: 7.62 | O65: 16.45 | P65: =1/G65 -> 9.8039216
A66: Cultivator&Post_04R30" | B66: =(4*30)/12 -> 10 | C66: TRACTOR_2WD_105HP_CB | D66: 27700 | E66: 150 | F66: 10 | G66: 0.22 | H66: 5.23 | I66: 3.49 | J66: 1.62 | K66: 0.78 | L66: 11.14 | M66: 5.37 | N66: 5.85 | O66: 22.36 | P66: =1/G66 -> 4.5454545
A67: Cultivator&Post_04R38" | B67: =(4*38)/12 -> 12.666667 | C67: TRACTOR_2WD_105HP_CB | D67: 27700 | E67: 150 | F67: 10 | G67: 0.173 | H67: 4.12 | I67: 2.75 | J67: 1.27 | K67: 0.61 | L67: 8.77 | M67: 4.22 | N67: 4.6 | O67: 17.6 | P67: =1/G67 -> 5.7803468
A68: Cultivator&Post_06R30" | B68: =(6*30)/12 -> 15 | C68: TRACTOR_MFWD_150HP_CB | D68: 34300 | E68: 150 | F68: 10 | G68: 0.146 | H68: 3.49 | I68: 3.32 | J68: 1.34 | K68: 0.88 | L68: 9.05 | M68: 4.43 | N68: 6.65 | O68: 20.13 | P68: =1/G68 -> 6.8493151
A69: Cultivator&Post_06R38" | B69: =(6*38)/12 -> 19 | C69: TRACTOR_MFWD_150HP_CB | D69: 34200 | E69: 150 | F69: 10 | G69: 0.115 | H69: 2.75 | I69: 2.62 | J69: 1.05 | K69: 0.7 | L69: 7.14 | M69: 3.48 | N69: 5.25 | O69: 15.88 | P69: =1/G69 -> 8.6956522
A70: Cultivator&Post_08R30" | B70: =(8*30)/12 -> 20 | C70: TRACTOR_MFWD_190HP_CB | D70: 42100 | E70: 150 | F70: 10 | G70: 0.11 | H70: 2.61 | I70: 3.16 | J70: 1.23 | K70: 0.96 | L70: 7.98 | M70: 4.08 | N70: 7.47 | O70: 19.53 | P70: =1/G70 -> 9.0909091
A71: Cultivator&Post_08R38" | B71: =(8*38)/12 -> 25.333333 | C71: TRACTOR_MFWD_190HP_CB | D71: 47000 | E71: 150 | F71: 10 | G71: 0.086 | H71: 2.07 | I71: 2.5 | J71: 1.08 | K71: 0.76 | L71: 6.42 | M71: 3.6 | N71: 5.9 | O71: 15.93 | P71: =1/G71 -> 11.627907
A72: Cultivator&Post_08R38"_(2x1) | B72: =(8*38)/12 -> 25.333333 | C72: TRACTOR_MFWD_190HP_CB | D72: 66600 | E72: 150 | F72: 10 | G72: 0.057 | H72: 1.37 | I72: 1.66 | J72: 1.02 | K72: 0.5 | L72: 4.57 | M72: 3.39 | N72: 3.93 | O72: 11.9 | P72: =1/G72 -> 17.54386
A73: Cultivator&Post_12R30" | B73: =(12*30)/12 -> 30 | C73: TRACTOR_MFWD_225HP_CB | D73: 68100 | E73: 150 | F73: 10 | G73: 0.073 | H73: 1.74 | I73: 2.49 | J73: 1.33 | K73: 0.7 | L73: 6.27 | M73: 4.4 | N73: 5.44 | O73: 16.11 | P73: =1/G73 -> 13.69863
A74: Cultivator&Post_12R38" | B74: =(12*38)/12 -> 38 | C74: TRACTOR_MFWD_225HP_CB | D74: 66600 | E74: 150 | F74: 10 | G74: 0.057 | H74: 1.37 | I74: 1.97 | J74: 1.02 | K74: 0.55 | L74: 4.93 | M74: 3.39 | N74: 4.29 | O74: 12.62 | P74: =1/G74 -> 17.54386
A75: Cultivator&Post_16R30" | B75: =(16*30)/12 -> 40 | C75: TRACTOR_MFWD_225HP_CB | D75: 89500 | E75: 150 | F75: 10 | G75: 0.055 | H75: 1.3 | I75: 1.87 | J75: 1.31 | K75: 0.52 | L75: 5.02 | M75: 4.33 | N75: 4.08 | O75: 13.44 | P75: =1/G75 -> 18.181818
A76: Cultivator_04R30" | B76: =(4*30)/12 -> 10 | C76: TRACTOR_2WD_105HP_CB | D76: 21600 | E76: 150 | F76: 10 | G76: 0.206 | H76: 3.97 | I76: 3.27 | J76: 1.18 | K76: 0.72 | L76: 9.17 | M76: 3.92 | N76: 5.45 | O76: 18.54 | P76: =1/G76 -> 4.8543689
A77: Cultivator_04R38" | B77: =(4*38)/12 -> 12.666667 | C77: TRACTOR_2WD_105HP_CB | D77: 21600 | E77: 150 | F77: 10 | G77: 0.162 | H77: 3.13 | I77: 2.58 | J77: 0.93 | K77: 0.57 | L77: 7.22 | M77: 3.09 | N77: 4.32 | O77: 14.63 | P77: =1/G77 -> 6.1728395
A78: Cultivator_06R30" | B78: =(6*30)/12 -> 15 | C78: TRACTOR_MFWD_150HP_CB | D78: 28200 | E78: 150 | F78: 10 | G78: 0.137 | H78: 2.65 | I78: 3.12 | J78: 1.03 | K78: 0.83 | L78: 7.63 | M78: 3.41 | N78: 6.23 | O78: 17.29 | P78: =1/G78 -> 7.2992701
A79: Cultivator_06R38" | B79: =(6*38)/12 -> 19 | C79: TRACTOR_MFWD_150HP_CB | D79: 28100 | E79: 150 | F79: 10 | G79: 0.108 | H79: 2.09 | I79: 2.46 | J79: 0.81 | K79: 0.65 | L79: 6.02 | M79: 2.68 | N79: 4.92 | O79: 13.64 | P79: =1/G79 -> 9.2592593
A80: Cultivator_08R30" | B80: =(8*30)/12 -> 20 | C80: TRACTOR_MFWD_190HP_CB | D80: 36000 | E80: 150 | F80: 10 | G80: 0.103 | H80: 1.98 | I80: 2.96 | J80: 0.99 | K80: 0.9 | L80: 6.84 | M80: 3.27 | N80: 7 | O80: 17.12 | P80: =1/G80 -> 9.7087379
A81: Cultivator_08R38" | B81: =(8*38)/12 -> 25.333333 | C81: TRACTOR_MFWD_190HP_CB | D81: 40900 | E81: 150 | F81: 10 | G81: 0.073 | H81: 1.42 | I81: 2.11 | J81: 0.8 | K81: 0.64 | L81: 4.98 | M81: 2.65 | N81: 5 | O81: 12.64 | P81: =1/G81 -> 13.69863
A82: Cultivator_08R38"_(2x1) | B82: =(8*38)/12 -> 25.333333 | C82: TRACTOR_MFWD_190HP_CB | D82: 60500 | E82: 150 | F82: 10 | G82: 0.054 | H82: 1.04 | I82: 1.56 | J82: 0.87 | K82: 0.47 | L82: 3.95 | M82: 2.89 | N82: 3.68 | O82: 10.53 | P82: =1/G82 -> 18.518519
A83: Cultivator_12R30" | B83: =(12*30)/12 -> 30 | C83: TRACTOR_MFWD_225HP_CB | D83: 62000 | E83: 150 | F83: 10 | G83: 0.068 | H83: 1.32 | I83: 2.34 | J83: 1.13 | K83: 0.65 | L83: 5.46 | M83: 3.75 | N83: 5.1 | O83: 14.32 | P83: =1/G83 -> 14.705882
A84: Cultivator_12R38" | B84: =(12*38)/12 -> 38 | C84: TRACTOR_MFWD_225HP_CB | D84: 60500 | E84: 150 | F84: 10 | G84: 0.054 | H84: 1.04 | I84: 1.84 | J84: 0.87 | K84: 0.52 | L84: 4.29 | M84: 2.89 | N84: 4.02 | O84: 11.21 | P84: =1/G84 -> 18.518519
A85: Cultivator_16R30" | B85: =(16*30)/12 -> 40 | C85: TRACTOR_MFWD_225HP_CB | D85: 83400 | E85: 150 | F85: 10 | G85: 0.051 | H85: 0.99 | I85: 1.75 | J85: 1.14 | K85: 0.49 | L85: 4.39 | M85: 3.78 | N85: 3.82 | O85: 12 | P85: =1/G85 -> 19.607843
A86: Disk&Incorporate_14' | B86: 14 | C86: TRACTOR_2WD_130HP_CB | D86: 42700 | E86: 200 | F86: 10 | G86: 0.149 | H86: 3.56 | I86: 2.94 | J86: 1.91 | K86: 0.67 | L86: 9.09 | M86: 4.22 | N86: 5.05 | O86: 18.37 | P86: =1/G86 -> 6.7114094
A87: Disk&Incorporate_20' | B87: 20 | C87: TRACTOR_MFWD_190HP_CB | D87: 89600 | E87: 200 | F87: 10 | G87: 0.092 | H87: 2.2 | I87: 2.65 | J87: 2.48 | K87: 0.81 | L87: 8.15 | M87: 5.47 | N87: 6.27 | O87: 19.9 | P87: =1/G87 -> 10.869565
A88: Disk&Incorporate_24' | B88: 24 | C88: TRACTOR_MFWD_190HP_CB | D88: 72800 | E88: 200 | F88: 10 | G88: 0.087 | H88: 2.07 | I88: 2.51 | J88: 1.9 | K88: 0.76 | L88: 7.26 | M88: 4.2 | N88: 5.92 | O88: 17.39 | P88: =1/G88 -> 11.494253
A89: Disk&Incorporate_28' | B89: 28 | C89: TRACTOR_MFWD_225HP_CB | D89: 86400 | E89: 200 | F89: 10 | G89: 0.074 | H89: 1.78 | I89: 2.54 | J89: 1.93 | K89: 0.71 | L89: 6.98 | M89: 4.27 | N89: 5.55 | O89: 16.81 | P89: =1/G89 -> 13.513514
A90: Disk&Incorporate_32' | B90: 32 | C90: TRACTOR_MFWD_225HP_CB | D90: 94600 | E90: 200 | F90: 10 | G90: 0.065 | H90: 1.55 | I90: 2.22 | J90: 1.85 | K90: 0.62 | L90: 6.27 | M90: 4.09 | N90: 4.85 | O90: 15.22 | P90: =1/G90 -> 15.384615
A91: Disk_Harrow_14' | B91: 14 | C91: TRACTOR_2WD_130HP_CB | D91: 36600 | E91: 180 | F91: 10 | G91: 0.14 | H91: 2.7 | I91: 2.76 | J91: 1.42 | K91: 0.63 | L91: 7.52 | M91: 3.77 | N91: 4.73 | O91: 16.03 | P91: =1/G91 -> 7.1428571
A92: Disk_Harrow_20' | B92: 20 | C92: TRACTOR_MFWD_190HP_CB | D92: 83500 | E92: 180 | F92: 10 | G92: 0.098 | H92: 1.89 | I92: 2.82 | J92: 2.27 | K92: 0.76 | L92: 7.85 | M92: 6.02 | N92: 6.66 | O92: 20.54 | P92: =1/G92 -> 10.204082
A93: Disk_Harrow_24' | B93: 24 | C93: TRACTOR_MFWD_190HP_CB | D93: 66700 | E93: 180 | F93: 10 | G93: 0.081 | H93: 1.57 | I93: 2.35 | J93: 1.51 | K93: 0.71 | L93: 6.16 | M93: 4 | N93: 5.55 | O93: 15.73 | P93: =1/G93 -> 12.345679
A94: Disk_Harrow_28' | B94: 28 | C94: TRACTOR_MFWD_225HP_CB | D94: 80300 | E94: 180 | F94: 10 | G94: 0.07 | H94: 1.35 | I94: 2.38 | J94: 1.56 | K94: 0.67 | L94: 5.97 | M94: 4.13 | N94: 5.2 | O94: 15.32 | P94: =1/G94 -> 14.285714
A95: Disk_Harrow_32' | B95: 32 | C95: TRACTOR_MFWD_225HP_CB | D95: 88500 | E95: 180 | F95: 10 | G95: 0.061 | H95: 1.18 | I95: 2.08 | J95: 1.5 | K95: 0.58 | L95: 5.37 | M95: 3.98 | N95: 4.55 | O95: 13.91 | P95: =1/G95 -> 16.393443
A96: Disk_Harrow_42' | B96: 42 | C96: TRACTOR_MFWD_225HP_CB | D96: 144000 | E96: 180 | F96: 10 | G96: 0.046 | H96: 0.9 | I96: 1.59 | J96: 1.87 | K96: 0.44 | L96: 4.81 | M96: 4.94 | N96: 3.47 | O96: 13.22 | P96: =1/G96 -> 21.73913
A97: Disk_Heavy_14' | B97: 14 | C97: TRACTOR_MFWD_150HP_CB | D97: 36300 | E97: 180 | F97: 10 | G97: 0.145 | H97: 2.81 | I97: 3.31 | J97: 1.48 | K97: 0.88 | L97: 8.49 | M97: 3.92 | N97: 6.62 | O97: 19.03 | P97: =1/G97 -> 6.8965517
... A100: Disk_Ripper_15' | B100: 15 | C100: TRACTOR_MFWD_225HP_CB | D100: 68600 | E100: 180 | F100: 10 | G100: 0.136 | H100: 2.62 | I100: 4.63 | J100: 2.59 | K100: 1.3 | L100: 11.16 | M100: 6.86 | N100: 10.1 | O100: 28.13 | P100: =1/G100 -> 7.3529412
A101: Ditcher | B101: --- | C101: TRACTOR_2WD_130HP_CB | D101: 6760 | E101: 200 | F101: 10 | G101: 0.02 | H101: 0.38 | I101: 0.39 | J101: 0.05 | K101: 0.09 | L101: 0.92 | M101: 0.08 | N101: 0.67 | O101: 1.68 | P101: =1/G101 -> 50
A102: Ditcher_(1m/160a) | B102: --- | C102: TRACTOR_2WD_130HP_CB | D102: 6760 | E102: 200 | F102: 10 | G102: 0.09 | H102: 0.18 | I102: 0.18 | J102: 0.02 | K102: 0.04 | L102: 0.43 | M102: 0.04 | N102: 0.31 | O102: 0.79 | P102: =1/G102 -> 11.111111
...

Sheet COMBINE_TRACTOR_UTV
A1: 1 | B1: 2 | C1: 3 | D1: 4 | E1: 5 | F1: 6 | G1: 7 | H1: 8 | I1: 9 | J1: 10 | K1: 11 | L1: 12
A2: EQUIPMENT/SIZE | B2: PURCHASE PRICE ($) | C2: ANNUAL USE (HOURS) | D2: USEFUL LIFE (YEARS) | E2: FUEL USE (GAL/HR) | F2: LABOR ($/HR) | G2: FUEL ($/HR) | H2: R&M ($/HR) | I2: TOTAL_DIRECT ($/HR) | J2: FIXED ($/HR) | K2: TOTAL_COST ($/HR) | L2: HP
A3: None | B3: 0 | C3: 0 | D3: 0 | E3: 0 | F3: 0 | G3: 0 | H3: 0 | I3: 0 | J3: 0 | K3: 0 | L3: 0
A4: COMBINE_265HP | B4: 463000 | C4: 300 | D4: 8 | E4: 13.64 | F4: 19.28 | G4: 40.1 | H4: 48.22 | I4: 107.61 | J4: 230.93 | K4: 338.54 | L4: 265
A5: COMBINE_325HP | B5: 560000 | C5: 300 | D5: 8 | E5: 16.73 | F5: 19.28 | G5: 49.18 | H5: 58.33 | I5: 126.79 | J5: 279.31 | K5: 406.11 | L5: 325
A6: COMBINE_355HP | B6: 565000 | C6: 300 | D6: 8 | E6: 18.27 | F6: 19.28 | G6: 53.71 | H6: 58.85 | I6: 131.84 | J6: 281.8 | K6: 413.65 | L6: 355
A7: COMBINE_425HP | B7: 568000 | C7: 300 | D7: 8 | E7: 21.87 | F7: 19.28 | G7: 64.31 | H7: 59.16 | I7: 142.76 | J7: 283.3 | K7: 426.06 | L7: 425
A8: COMBINE_475HP | B8: 613000 | C8: 300 | D8: 8 | E8: 24.44 | F8: 19.28 | G8: 71.88 | H8: 63.85 | I8: 155.01 | J8: 305.74 | K8: 460.76 | L8: 475
A9: TRACTOR_MFWD_030HP_CB | B9: 39500 | C9: 600 | D9: 8 | E9: 1.54 | F9: 19.28 | G9: 4.53 | H9: 1.23 | I9: 25.05 | J9: 9.24 | K9: 34.29 | L9: 30
A10: TRACTOR_MFWD_030HP_RB | B10: 27700 | C10: 600 | D10: 8 | E10: 1.54 | F10: 19.28 | G10: 4.53 | H10: 0.86 | I10: 24.68 | J10: 6.48 | K10: 31.16 | L10: 30
A11: TRACTOR_2WD_050HP_CB | B11: 39800 | C11: 600 | D11: 8 | E11: 2.57 | F11: 19.28 | G11: 7.56 | H11: 1.24 | I11: 28.09 | J11: 9.31 | K11: 37.4 | L11: 50
A12: TRACTOR_MFWD_050HP_CB | B12: 53300 | C12: 600 | D12: 8 | E12: 2.57 | F12: 19.28 | G12: 7.56 | H12: 1.66 | I12: 28.51 | J12: 12.47 | K12: 40.98 | L12: 50
A13: TRACTOR_2WD_050HP_RB | B13: 29200 | C13: 600 | D13: 8 | E13: 2.57 | F13: 19.28 | G13: 7.56 | H13: 0.91 | I13: 27.75 | J13: 6.83 | K13: 34.59 | L13: 50
A14: TRACTOR_MFWD_050HP_RB | B14: 34300 | C14: 600 | D14: 8 | E14: 2.57 | F14: 19.28 | G14: 7.56 | H14: 1.07 | I14: 27.91 | J14: 8.02 | K14: 35.94 | L14: 50
... A36: TRACTOR_TRACK_500HP_CB | B36: 700000 | C36: 600 | D36: 8 | E36: 25.73 | F36: 19.28 | G36: 75.66 | H36: 21.87 | I36: 116.81 | J36: 169.18 | K36: 286 | L36: 500
A37: UTV_800CC | B37: 12200 | C37: 200 | D37: 8 | E37: 0.7 | F37: 19.28 | G37: 1.88 | H37: 1.9 | I37: 23.06 | J37: 9.12 | K37: 32.19 | L37: =800/15 -> 53.333333
A38: UTV_900CC | B38: 18700 | C38: 200 | D38: 8 | E38: 1 | F38: 19.28 | G38: 2.69 | H38: 2.92 | I38: 24.89 | J38: 13.99 | K38: 38.88 | L38: =900/15 -> 60
